BEGIN:VCALENDAR
VERSION:2.0
PRODID:-//hacksw/handcal//NONSGML v1.0//EN
CALSCALE:GREGORIAN
METHOD:PUBLISH
BEGIN:VTIMEZONE
TZID:Europe/Berlin
END:VTIMEZONE
BEGIN:VEVENT
UID:wieselhuber_851
LOCATION:Stadthotel Münster, Aegidiistraße 21, 48143 Münster, Münster
ORGANIZER;CN=Dr. Wieselhuber & Partner GmbH:MAILTO:info@wieselhuber.de
DTSTART;VALUE=DATE-TIME:20260424T090000
DTEND:STANDARD
SUMMARY:BWL kompakt – Sanierung beginnt mit Zahlen
DESCRIPTION:Am 24. April 2026 findet die Veranstaltung „BWL kompakt – S
	anierung beginnt mit Zahlen“ der Arbeitsgruppe „Junge Insolvenzrechtle
	r“ statt – ein kompaktes Seminar rund um betriebswirtschaftliche Grund
	lagen und aktuelle Herausforderungen in der Restrukturierungspraxis.Diese 
	Highlights erwarten Sie unter anderem:Financial Reality Check: Wo das Unte
	rnehmen wirklich steht\nZwischen Zinswende und Refinanzierungsdruck: Unter
	nehmensfinanzierung in herausfordernden Zeiten\nGutachten für Unternehmen
	 in der Krise: IBR / IDW S6 / IDW S11\nLiquiditätsplanung und -management
	 in der Insolvenz\nBetriebswirtschaftliche Fragen der Vergleichsrechnung f
	ür die übertragende Sanierung und den Insolvenzplan\n\n… und natürlic
	h zahlreiche Gelegenheiten zum fachlichen Austausch mit Kolleginnen und Ko
	llegen aus der Restrukturierungs- und Insolvenzpraxis.Folgende W&P Kollege
	n wirken als Referierende mit dem Thema „Financial Reality Check: Wo das
	 Unternehmen wirklich steht“ (09.30 – 10.30 Uhr) mit:Kai F. Kramer, Se
	nior Manager\nPhilipp Seiz, Senior Manager\n\nWeitere Infos zum Programm u
	nd die Möglichkeit zur Anmeldung finden Sie hier (https://agis.law/de/ver
	anstaltungen/veranstaltungskalender/bwl-fuer-juristen-veranstaltung-der-ar
	beitsgruppe-junge-insolvenzrechtler).\n\nWeitere Infos unter:\nhttps://www
	.wieselhuber.de/aktuelles/veranstaltung/-/851/BWL_kompakt_Sanierung_beginn
	t_mit_Zahlen/
UID:event851@wieselhuber.de
END:VEVENT
END:VCALENDAR